{
 "version": 1.0,
 "tileBundlesPath": "./tile",
 "storageInfo": {
  "packetSize": 128,
  "storageFormat": "esriMapCacheStorageModeCompactV2"
 },
 "tileImageInfo": {
  "format": "MIXED",
  "compressionQuality": 75,
  "bandCount": 1,
  "lercError": 0
 },
 "tileInfo": {
  "spatialReference": {
   "wkid": 102100,
   "latestWkid": 3857
  },
  "origin": {
   "x": -2.0037508342787E7,
   "y": 2.0037508342787E7
  },
  "rows": 256,
  "cols": 256,
  "dpi": 96,
  "lods": [
   {
    "level": 0,
    "resolution": 156543.033928,
    "scale": 5.91657527591555E8
   },
   {
    "level": 1,
    "resolution": 78271.5169639999,
    "scale": 2.95828763795777E8
   },
   {
    "level": 2,
    "resolution": 39135.7584820001,
    "scale": 1.47914381897889E8
   },
   {
    "level": 3,
    "resolution": 19567.8792409999,
    "scale": 7.3957190948944E7
   },
   {
    "level": 4,
    "resolution": 9783.93962049996,
    "scale": 3.6978595474472E7
   },
   {
    "level": 5,
    "resolution": 4891.96981024998,
    "scale": 1.8489297737236E7
   },
   {
    "level": 6,
    "resolution": 2445.98490512499,
    "scale": 9244648.868618
   },
   {
    "level": 7,
    "resolution": 1222.99245256249,
    "scale": 4622324.434309
   },
   {
    "level": 8,
    "resolution": 611.49622628138,
    "scale": 2311162.217155
   },
   {
    "level": 9,
    "resolution": 305.748113140558,
    "scale": 1155581.108577
   },
   {
    "level": 10,
    "resolution": 152.874056570411,
    "scale": 577790.554289
   },
   {
    "level": 11,
    "resolution": 76.4370282850732,
    "scale": 288895.277144
   },
   {
    "level": 12,
    "resolution": 38.2185141425366,
    "scale": 144447.638572
   },
   {
    "level": 13,
    "resolution": 19.1092570712683,
    "scale": 72223.819286
   },
   {
    "level": 14,
    "resolution": 9.55462853563415,
    "scale": 36111.909643
   },
   {
    "level": 15,
    "resolution": 4.77731426794937,
    "scale": 18055.954822
   },
   {
    "level": 16,
    "resolution": 2.38865713397468,
    "scale": 9027.977411
   },
   {
    "level": 17,
    "resolution": 1.19432856685505,
    "scale": 4513.988705
   },
   {
    "level": 18,
    "resolution": 0.597164283559817,
    "scale": 2256.994353
   },
   {
    "level": 19,
    "resolution": 0.298582141647617,
    "scale": 1128.497176
   },
   {
    "level": 20,
    "resolution": 0.14929107082380833,
    "scale": 564.248588
   },
   {
    "level": 21,
    "resolution": 0.07464553541190416,
    "scale": 282.124294
   },
   {
    "level": 22,
    "resolution": 0.03732276770595208,
    "scale": 141.062147
   },
   {
    "level": 23,
    "resolution": 0.01866138385297604,
    "scale": 70.5310735
   }
  ],
  "format": "MIXED",
  "compressionQuality": 75,
  "bandCount": 1,
  "lercError": 0,
  "storageFormat": "esriMapCacheStorageModeCompactV2",
  "packetSize": 128
 },
 "name": "Fond_de_carte_Urgence_2025_Ete",
 "serviceDescription": "",
 "spatialReference": {
  "wkid": 102100,
  "latestWkid": 3857,
  "xyTolerance": 0.001,
  "zTolerance": 0.001,
  "mTolerance": 0.001,
  "falseX": -20037700,
  "falseY": -30241100,
  "xyUnits": 10000,
  "falseZ": -100000,
  "zUnits": 10000,
  "falseM": -100000,
  "mUnits": 10000
 },
 "units": "esriMeters",
 "minLOD": 10,
 "maxLOD": 19,
 "resampling": true,
 "layers": [
  {
   "id": 0,
   "name": "BM - Urgence Été",
   "parentLayerId": -1,
   "defaultVisibility": true,
   "subLayerIds": [
    1,
    2,
    3,
    4,
    5,
    6,
    7,
    8,
    9
   ],
   "minScale": 0,
   "maxScale": 0,
   "type": "Group Layer",
   "supportsDynamicLegends": false,
   "layerId": 0,
   "layerName": "BM - Urgence Été",
   "serviceItemId": "8adf3233f8b14320935014ce4e521eb7"
  },
  {
   "id": 1,
   "name": "SAG-Borne fontaine",
   "parentLayerId": 0,
   "defaultVisibility": true,
   "subLayerIds": null,
   "minScale": 4513.98888,
   "maxScale": 0,
   "type": "Feature Layer",
   "geometryType": "esriGeometryPoint",
   "supportsDynamicLegends": true,
   "legend": [
    {
     "label": "",
     "imageData": "iVBORw0KGgoAAAANSUhEUgAAABQAAAAeCAYAAAAsEj5rAAAACXBIWXMAAA7EAAAOxAGVKw4bAAACbklEQVRIiZ2VvW7TUBiG3zROKFg1C2RpAXkJqdQp7d70BmBlD6FzriD2BQBzqMLAxEp6Abh7yErpUgmUxZ1wlUrk4BR9x/7in5yTuLySfWwfn8fv92PbgEaOjRdPKmj+/gvroYHuzRxjui7mONuqYtg5h6daZyiuWe4zvGuaaNPJnrm43qTdNETTF+h+fA4vLMHNgzPAQR2OWUbP3tT5BswyYJcluOULtBwbL51LDJeAJw20zNJqmApslvFlUIfbvoCTBlqVW7y17+POqlUAf4YepX0B/NSAs1ONcqTS7slXOU76LoLRci1q1Shd5FICxRxdCoG1fSwfhu1jenCixoeWHK+/eRJOCkZexqUR5y4Dy4MYQtrab8mN4GnHtaocdozJH1j7SWtoRYtVD0prUMdrg5oXa8ThkbN1Mn4JjGO7Wtik72QKw045DSxiGc4lvM+7ACpI3ZQsIJh1EOWNztPzaU1DgFhU5eBKYGxvRqGn2yIYncWjh/M3R3IkeDLvLY5v5vIVDGTbPNjAqS/QpPKzM3JkHRxi0s8uVoXrC+DnDO/pWAKpIQd19BhIzrg9KHeUNy4Ij+ye5M9kuMP8x8H1RQSlvLEb7jlVoSRMRGt5bgHMu0xDdTAqxJWAxx+GvMOMS4bSxq8ig1jkLiwl7paAsUvSAqoCsTuqbOfHig+sKnSdVO50v4Cl0FWwaQi3c7H8X1ECV7mkUGlLF6KIQ61Lcnd9iyPdIkM3oSqQrhBFHRYuRGEguTzdQ49A5sZ6d4Uc+jO4tWoEfVxB8gL/L7Adu6T8vfquruydgLHcp/dwWOTGQsBHhszbytyx/gGJwTgs0YRbXAAAAABJRU5ErkJggg==",
     "contentType": "image/png",
     "groupId": "0",
     "height": 30,
     "width": 20,
     "layerId": 1,
     "layerName": "SAG-Borne fontaine"
    }
   ],
   "layerId": 1,
   "layerName": "SAG-Borne fontaine",
   "serviceItemId": "8adf3233f8b14320935014ce4e521eb7"
  },
  {
   "id": 2,
   "name": "SAG-Rue",
   "parentLayerId": 0,
   "defaultVisibility": true,
   "subLayerIds": null,
   "minScale": 0,
   "maxScale": 0,
   "type": "Feature Layer",
   "geometryType": "esriGeometryPolyline",
   "supportsDynamicLegends": true,
   "legend": [
    {
     "label": "Accès",
     "imageData": "iVBORw0KGgoAAAANSUhEUgAAABQAAAAUCAYAAACNiR0NAAAACXBIWXMAAA7EAAAOxAGVKw4bAAAAYUlEQVQ4jWNhoDJgGTWQYsBCuRGoYCQb2NzcvB9E//v372B9fX0DVMyBgYGhHlkDLvna2lpHrC5kYmI6gKTZgYmJiSR5FhgDZgMygLkEF8Amz8JAZcAyaiDFgIVyI4aagQAnNSIPCzWt1AAAAABJRU5ErkJggg==",
     "contentType": "image/png",
     "groupId": "0",
     "height": 20,
     "width": 20,
     "values": [
      "Accès"
     ],
     "layerId": 2,
     "layerName": "SAG-Rue"
    },
    {
     "label": "Artère Principale",
     "imageData": "iVBORw0KGgoAAAANSUhEUgAAABQAAAAUCAYAAACNiR0NAAAACXBIWXMAAA7EAAAOxAGVKw4bAAAAfElEQVQ4jWNhoDJgGTVwJIXh0+60BkoMki6d1QA38P/z8w5fLp2up8TA/88zDzBKGh5gARnG8J9hP4+uKSXmMYDM+P/8vCP1w5BR0vAAyOQvl07vp8QgHj1TR7CXQRwQ42l3WiMlBvK6px0AuxA9lkZQwqYWYKGaSUPGQAAUiyfX5/Vb+AAAAABJRU5ErkJggg==",
     "contentType": "image/png",
     "groupId": "0",
     "height": 20,
     "width": 20,
     "values": [
      "Artère Principale"
     ],
     "layerId": 2,
     "layerName": "SAG-Rue"
    },
    {
     "label": "Collectrice",
     "imageData": "iVBORw0KGgoAAAANSUhEUgAAABQAAAAUCAYAAACNiR0NAAAACXBIWXMAAA7EAAAOxAGVKw4bAAAAcklEQVQ4jWNhoDJgGTVwJIXh5eObHSgxSNfS9wDcwP/fTzs8uPd+PyUG/v9+2pGR0/QAC8gwBibG/QoqQgwUgv0gQ6kfhoycpgdAJlPqZQUlQYiXQRwQ4/LxzY6UGMjIaYqIFORYGkEJm1qAhWomDRkDAYGlJZiH8srqAAAAAElFTkSuQmCC",
     "contentType": "image/png",
     "groupId": "0",
     "height": 20,
     "width": 20,
     "values": [
      "Collectrice"
     ],
     "layerId": 2,
     "layerName": "SAG-Rue"
    },
    {
     "label": "Route Rurale",
     "imageData": "iVBORw0KGgoAAAANSUhEUgAAABQAAAAUCAYAAACNiR0NAAAACXBIWXMAAA7EAAAOxAGVKw4bAAAAcUlEQVQ4je3Suw2AMAwE0CjybRNlBlwiJmGijELpDJFt3CALCejtBoWr7OZJ/lAKDv3gTDsUaYsHYt77DarqMsYhHlBVGUAnw3LOUuuWnBFD43cIoJvsHbmU9RrZGitEGntAAM9R3lea6LGjQmHSZ8AT4KMlnp8FqOwAAAAASUVORK5CYII=",
     "contentType": "image/png",
     "groupId": "0",
     "height": 20,
     "width": 20,
     "values": [
      "Route Rurale"
     ],
     "layerId": 2,
     "layerName": "SAG-Rue"
    },
    {
     "label": "Rue Locale",
     "imageData": "iVBORw0KGgoAAAANSUhEUgAAABQAAAAUCAYAAACNiR0NAAAACXBIWXMAAA7EAAAOxAGVKw4bAAAAcUlEQVQ4je3Suw2AMAwE0CjybRNlBlwiJmGijELpDJFt3CALCejtBoWr7OZJ/lAKDv3gTDsUaYsHYt77DarqMsYhHlBVGUAnw3LOUuuWnBFD43cIoJvsHbmU9RrZGitEGntAAM9R3lea6LGjQmHSZ8AT4KMlnp8FqOwAAAAASUVORK5CYII=",
     "contentType": "image/png",
     "groupId": "0",
     "height": 20,
     "width": 20,
     "values": [
      "Rue Locale"
     ],
     "layerId": 2,
     "layerName": "SAG-Rue"
    },
    {
     "label": "Rue Privée",
     "imageData": "iVBORw0KGgoAAAANSUhEUgAAABQAAAAUCAYAAACNiR0NAAAACXBIWXMAAA7EAAAOxAGVKw4bAAAAdElEQVQ4jWNhoDJgGTVwJIVhRfNhB0oM6qi1PQA3cP/l/w6nj1zZT4mB+y//d3TUZTzAAjLs/3+G/SbWOpSYxwAyA2Qo9cPQUZfxAMhkSr1saqMD8TKIA2JUNB92pMRAR11GRKQgx9IIStjUAixUM2nIGAgAll8pjLtdWE0AAAAASUVORK5CYII=",
     "contentType": "image/png",
     "groupId": "0",
     "height": 20,
     "width": 20,
     "values": [
      "Rue Privée"
     ],
     "layerId": 2,
     "layerName": "SAG-Rue"
    },
    {
     "label": "Réseau Autoroutier",
     "imageData": "iVBORw0KGgoAAAANSUhEUgAAABQAAAAUCAYAAACNiR0NAAAACXBIWXMAAA7EAAAOxAGVKw4bAAAAbElEQVQ4jWNhoDJgGTVwJIXh5kjj/ZQY5Lv8rCPYwOfTSxwYmP/X///P4ECJgc8dHfYz/GVsZKGGYSAAMoOR+T8twvAvYyPIZEpdycjIcADsZcnMngMMDAwHqBYpDGgCIyhhUwuwUM2kIWMgAMRuJHlb0bxOAAAAAElFTkSuQmCC",
     "contentType": "image/png",
     "groupId": "0",
     "height": 20,
     "width": 20,
     "values": [
      "Réseau Autoroutier"
     ],
     "layerId": 2,
     "layerName": "SAG-Rue"
    },
    {
     "label": "Réseau Collecteur",
     "imageData": "iVBORw0KGgoAAAANSUhEUgAAABQAAAAUCAYAAACNiR0NAAAACXBIWXMAAA7EAAAOxAGVKw4bAAAAcUlEQVQ4je3Suw2AMAwE0CjybRNlBlwiJmGijELpDJFt3CALCejtBoWr7OZJ/lAKDv3gTDsUaYsHYt77DarqMsYhHlBVGUAnw3LOUuuWnBFD43cIoJvsHbmU9RrZGitEGntAAM9R3lea6LGjQmHSZ8AT4KMlnp8FqOwAAAAASUVORK5CYII=",
     "contentType": "image/png",
     "groupId": "0",
     "height": 20,
     "width": 20,
     "values": [
      "Réseau Collecteur"
     ],
     "layerId": 2,
     "layerName": "SAG-Rue"
    },
    {
     "label": "Réseau National",
     "imageData": "iVBORw0KGgoAAAANSUhEUgAAABQAAAAUCAYAAACNiR0NAAAACXBIWXMAAA7EAAAOxAGVKw4bAAAAfElEQVQ4jWNhoDJgGTVwJIXh0+60BkoMki6d1QA38P/z8w5fLp2up8TA/88zDzBKGh5gARnG8J9hP4+uKSXmMYDM+P/8vCP1w5BR0vAAyOQvl07vp8QgHj1TR7CXQRwQ42l3WiMlBvK6px0AuxA9lkZQwqYWYKGaSUPGQAAUiyfX5/Vb+AAAAABJRU5ErkJggg==",
     "contentType": "image/png",
     "groupId": "0",
     "height": 20,
     "width": 20,
     "values": [
      "Réseau National"
     ],
     "layerId": 2,
     "layerName": "SAG-Rue"
    },
    {
     "label": "Réseau Régional",
     "imageData": "iVBORw0KGgoAAAANSUhEUgAAABQAAAAUCAYAAACNiR0NAAAACXBIWXMAAA7EAAAOxAGVKw4bAAAAfElEQVQ4jWNhoDJgGTVwJIXh0+60BkoMki6d1QA38P/z8w5fLp2up8TA/88zDzBKGh5gARnG8J9hP4+uKSXmMYDM+P/8vCP1w5BR0vAAyOQvl07vp8QgHj1TR7CXQRwQ42l3WiMlBvK6px0AuxA9lkZQwqYWYKGaSUPGQAAUiyfX5/Vb+AAAAABJRU5ErkJggg==",
     "contentType": "image/png",
     "groupId": "0",
     "height": 20,
     "width": 20,
     "values": [
      "Réseau Régional"
     ],
     "layerId": 2,
     "layerName": "SAG-Rue"
    },
    {
     "label": "Voie Réservée",
     "imageData": "iVBORw0KGgoAAAANSUhEUgAAABQAAAAUCAYAAACNiR0NAAAACXBIWXMAAA7EAAAOxAGVKw4bAAAAdElEQVQ4jWNhoDJgGTVwJIVhRfNhB0oM6qi1PQA3cP/l/w6nj1zZT4mB+y//d3TUZTzAAjLs/3+G/SbWOpSYxwAyA2Qo9cPQUZfxAMhkSr1saqMD8TKIA2JUNB92pMRAR11GRKQgx9IIStjUAixUM2nIGAgAll8pjLtdWE0AAAAASUVORK5CYII=",
     "contentType": "image/png",
     "groupId": "0",
     "height": 20,
     "width": 20,
     "values": [
      "Voie Réservée"
     ],
     "layerId": 2,
     "layerName": "SAG-Rue"
    },
    {
     "label": "",
     "imageData": "iVBORw0KGgoAAAANSUhEUgAAABQAAAAUCAYAAACNiR0NAAAACXBIWXMAAA7EAAAOxAGVKw4bAAAAcUlEQVQ4je3Suw2AMAwE0CjybRNlBlwiJmGijELpDJFt3CALCejtBoWr7OZJ/lAKDv3gTDsUaYsHYt77DarqMsYhHlBVGUAnw3LOUuuWnBFD43cIoJvsHbmU9RrZGitEGntAAM9R3lea6LGjQmHSZ8AT4KMlnp8FqOwAAAAASUVORK5CYII=",
     "contentType": "image/png",
     "groupId": "1",
     "height": 20,
     "width": 20,
     "layerId": 2,
     "layerName": "SAG-Rue"
    }
   ],
   "layerId": 2,
   "layerName": "SAG-Rue",
   "serviceItemId": "8adf3233f8b14320935014ce4e521eb7"
  },
  {
   "id": 3,
   "name": "AUT-Rue",
   "parentLayerId": 0,
   "defaultVisibility": true,
   "subLayerIds": null,
   "minScale": 0,
   "maxScale": 0,
   "type": "Feature Layer",
   "geometryType": "esriGeometryPolyline",
   "supportsDynamicLegends": true,
   "legend": [
    {
     "label": "Artère",
     "imageData": "iVBORw0KGgoAAAANSUhEUgAAABQAAAAUCAYAAACNiR0NAAAACXBIWXMAAA7EAAAOxAGVKw4bAAAAfElEQVQ4jWNhoDJgGTVwJIXh0+60BkoMki6d1QA38P/z8w5fLp2up8TA/88zDzBKGh5gARnG8J9hP4+uKSXmMYDM+P/8vCP1w5BR0vAAyOQvl07vp8QgHj1TR7CXQRwQ42l3WiMlBvK6px0AuxA9lkZQwqYWYKGaSUPGQAAUiyfX5/Vb+AAAAABJRU5ErkJggg==",
     "contentType": "image/png",
     "groupId": "0",
     "height": 20,
     "width": 20,
     "values": [
      "Artère"
     ],
     "layerId": 3,
     "layerName": "AUT-Rue"
    },
    {
     "label": "Collectrice de transit",
     "imageData": "iVBORw0KGgoAAAANSUhEUgAAABQAAAAUCAYAAACNiR0NAAAACXBIWXMAAA7EAAAOxAGVKw4bAAAAcklEQVQ4jWNhoDJgGTVwJIXh5eObHSgxSNfS9wDcwP/fTzs8uPd+PyUG/v9+2pGR0/QAC8gwBibG/QoqQgwUgv0gQ6kfhoycpgdAJlPqZQUlQYiXQRwQ4/LxzY6UGMjIaYqIFORYGkEJm1qAhWomDRkDAYGlJZiH8srqAAAAAElFTkSuQmCC",
     "contentType": "image/png",
     "groupId": "0",
     "height": 20,
     "width": 20,
     "values": [
      "Collectrice de transit"
     ],
     "layerId": 3,
     "layerName": "AUT-Rue"
    },
    {
     "label": "Collectrice municipale",
     "imageData": "iVBORw0KGgoAAAANSUhEUgAAABQAAAAUCAYAAACNiR0NAAAACXBIWXMAAA7EAAAOxAGVKw4bAAAAcklEQVQ4jWNhoDJgGTVwJIXh5eObHSgxSNfS9wDcwP/fTzs8uPd+PyUG/v9+2pGR0/QAC8gwBibG/QoqQgwUgv0gQ6kfhoycpgdAJlPqZQUlQYiXQRwQ4/LxzY6UGMjIaYqIFORYGkEJm1qAhWomDRkDAYGlJZiH8srqAAAAAElFTkSuQmCC",
     "contentType": "image/png",
     "groupId": "0",
     "height": 20,
     "width": 20,
     "values": [
      "Collectrice municipale"
     ],
     "layerId": 3,
     "layerName": "AUT-Rue"
    },
    {
     "label": "Locale",
     "imageData": "iVBORw0KGgoAAAANSUhEUgAAABQAAAAUCAYAAACNiR0NAAAACXBIWXMAAA7EAAAOxAGVKw4bAAAAcUlEQVQ4je3Suw2AMAwE0CjybRNlBlwiJmGijELpDJFt3CALCejtBoWr7OZJ/lAKDv3gTDsUaYsHYt77DarqMsYhHlBVGUAnw3LOUuuWnBFD43cIoJvsHbmU9RrZGitEGntAAM9R3lea6LGjQmHSZ8AT4KMlnp8FqOwAAAAASUVORK5CYII=",
     "contentType": "image/png",
     "groupId": "0",
     "height": 20,
     "width": 20,
     "values": [
      "Locale"
     ],
     "layerId": 3,
     "layerName": "AUT-Rue"
    },
    {
     "label": "Nationale",
     "imageData": "iVBORw0KGgoAAAANSUhEUgAAABQAAAAUCAYAAACNiR0NAAAACXBIWXMAAA7EAAAOxAGVKw4bAAAAfElEQVQ4jWNhoDJgGTVwJIXh0+60BkoMki6d1QA38P/z8w5fLp2up8TA/88zDzBKGh5gARnG8J9hP4+uKSXmMYDM+P/8vCP1w5BR0vAAyOQvl07vp8QgHj1TR7CXQRwQ42l3WiMlBvK6px0AuxA9lkZQwqYWYKGaSUPGQAAUiyfX5/Vb+AAAAABJRU5ErkJggg==",
     "contentType": "image/png",
     "groupId": "0",
     "height": 20,
     "width": 20,
     "values": [
      "Nationale"
     ],
     "layerId": 3,
     "layerName": "AUT-Rue"
    },
    {
     "label": "Régionale",
     "imageData": "iVBORw0KGgoAAAANSUhEUgAAABQAAAAUCAYAAACNiR0NAAAACXBIWXMAAA7EAAAOxAGVKw4bAAAAfElEQVQ4jWNhoDJgGTVwJIXh0+60BkoMki6d1QA38P/z8w5fLp2up8TA/88zDzBKGh5gARnG8J9hP4+uKSXmMYDM+P/8vCP1w5BR0vAAyOQvl07vp8QgHj1TR7CXQRwQ42l3WiMlBvK6px0AuxA9lkZQwqYWYKGaSUPGQAAUiyfX5/Vb+AAAAABJRU5ErkJggg==",
     "contentType": "image/png",
     "groupId": "0",
     "height": 20,
     "width": 20,
     "values": [
      "Régionale"
     ],
     "layerId": 3,
     "layerName": "AUT-Rue"
    },
    {
     "label": "",
     "imageData": "iVBORw0KGgoAAAANSUhEUgAAABQAAAAUCAYAAACNiR0NAAAACXBIWXMAAA7EAAAOxAGVKw4bAAAAQ0lEQVQ4jWNhoDJgGTWQYsBCuRGoYKQa2NjY2MDExGRPiUH//v07WF9f30AbF9bX1zdQ1UBqAhaqmsYwaiA1wOCPFADEmwpOOTfaCgAAAABJRU5ErkJggg==",
     "contentType": "image/png",
     "groupId": "1",
     "height": 20,
     "width": 20,
     "layerId": 3,
     "layerName": "AUT-Rue"
    }
   ],
   "layerId": 3,
   "layerName": "AUT-Rue",
   "serviceItemId": "8adf3233f8b14320935014ce4e521eb7"
  },
  {
   "id": 4,
   "name": "SAG-Bordure de rue",
   "parentLayerId": 0,
   "defaultVisibility": true,
   "subLayerIds": null,
   "minScale": 4513.98888,
   "maxScale": 0,
   "type": "Feature Layer",
   "geometryType": "esriGeometryPolyline",
   "supportsDynamicLegends": true,
   "legend": [
    {
     "label": "",
     "imageData": "iVBORw0KGgoAAAANSUhEUgAAABQAAAAUCAYAAACNiR0NAAAACXBIWXMAAA7EAAAOxAGVKw4bAAAARElEQVQ4jWNhoDJgGTWQYsBCuRGoYKQauHHjxgYmJiZ7Sgz69+/fQX9//wbauNDf37+BqgZSE7BQ1TSGUQOpAQZ/pAAAVlwJvt8tXQMAAAAASUVORK5CYII=",
     "contentType": "image/png",
     "groupId": "0",
     "height": 20,
     "width": 20,
     "layerId": 4,
     "layerName": "SAG-Bordure de rue"
    }
   ],
   "layerId": 4,
   "layerName": "SAG-Bordure de rue",
   "serviceItemId": "8adf3233f8b14320935014ce4e521eb7"
  },
  {
   "id": 5,
   "name": "SAG-Limite administrative",
   "parentLayerId": 0,
   "defaultVisibility": true,
   "subLayerIds": null,
   "minScale": 0,
   "maxScale": 2256.99444,
   "type": "Feature Layer",
   "geometryType": "esriGeometryPolygon",
   "supportsDynamicLegends": true,
   "legend": [
    {
     "label": "",
     "imageData": "iVBORw0KGgoAAAANSUhEUgAAABQAAAAUCAYAAACNiR0NAAAACXBIWXMAAA7EAAAOxAGVKw4bAAAAYklEQVQ4je3UwQnAMAiFYREH6wTiRqEbOUIns8UkFHJ+Hv0vuX2EBJ6o6kuFyT5vZn4QKCIuIhoTTMzdIdDMEl1gZdIgnODEWYN4UmAcNYg33zDHMfcMaQ/s/ykjx7HggvQB3KwalU/lCIAAAAAASUVORK5CYII=",
     "contentType": "image/png",
     "groupId": "0",
     "height": 20,
     "width": 20,
     "layerId": 5,
     "layerName": "SAG-Limite administrative"
    }
   ],
   "layerId": 5,
   "layerName": "SAG-Limite administrative",
   "serviceItemId": "8adf3233f8b14320935014ce4e521eb7"
  },
  {
   "id": 6,
   "name": "AUT-Bâtiment et numéro civique",
   "parentLayerId": 0,
   "defaultVisibility": true,
   "subLayerIds": null,
   "minScale": 5000,
   "maxScale": 0,
   "type": "Feature Layer",
   "geometryType": "esriGeometryPoint",
   "supportsDynamicLegends": true,
   "legend": [
    {
     "label": "",
     "imageData": "iVBORw0KGgoAAAANSUhEUgAAABQAAAAUCAYAAACNiR0NAAAACXBIWXMAAA7EAAAOxAGVKw4bAAAAqUlEQVQ4je2TXQ4CIQyEKeFgezF+Bi7GyaipsdFsQGF3Y3xwXoASvg4tOHOx3B/4nRoCSDJaa6uM3vt6CAggEVHUNTPf5wAQY0xLQOxgr5I4ANODut6BUsqmbkZ6JEvTDmckt4g7l11ga20jokNJnDkh7fpHoFwj5/y2hssOmRmjLut+CGHOobqUp9GDCmz5HYrkUCmlaqM0Zs40xT+/2fC7mRXgqn4feAPIikfPtPkNDQAAAABJRU5ErkJggg==",
     "contentType": "image/png",
     "groupId": "0",
     "height": 20,
     "width": 20,
     "layerId": 6,
     "layerName": "AUT-Bâtiment et numéro civique"
    }
   ],
   "layerId": 6,
   "layerName": "AUT-Bâtiment et numéro civique",
   "serviceItemId": "8adf3233f8b14320935014ce4e521eb7"
  },
  {
   "id": 7,
   "name": "SAG-Numéro civique",
   "parentLayerId": 0,
   "defaultVisibility": true,
   "subLayerIds": null,
   "minScale": 4513.98888,
   "maxScale": 0,
   "type": "Feature Layer",
   "geometryType": "esriGeometryPoint",
   "supportsDynamicLegends": true,
   "legend": [
    {
     "label": "",
     "imageData": "iVBORw0KGgoAAAANSUhEUgAAABQAAAAUCAYAAACNiR0NAAAACXBIWXMAAA7EAAAOxAGVKw4bAAAAN0lEQVQ4jWNhoDJgGTWQYsBCuRGoYNRAOobhpk2b/vv5+TFSzUA/IgwDgdFYphywUMEMhhFuIACB9AU8IPCkXgAAAABJRU5ErkJggg==",
     "contentType": "image/png",
     "groupId": "0",
     "height": 20,
     "width": 20,
     "layerId": 7,
     "layerName": "SAG-Numéro civique"
    }
   ],
   "layerId": 7,
   "layerName": "SAG-Numéro civique",
   "serviceItemId": "8adf3233f8b14320935014ce4e521eb7"
  },
  {
   "id": 8,
   "name": "SAG-Bâtiment",
   "parentLayerId": 0,
   "defaultVisibility": true,
   "subLayerIds": null,
   "minScale": 18055.95552,
   "maxScale": 0,
   "type": "Feature Layer",
   "geometryType": "esriGeometryPolygon",
   "supportsDynamicLegends": true,
   "legend": [
    {
     "label": "",
     "imageData": "iVBORw0KGgoAAAANSUhEUgAAABQAAAAUCAYAAACNiR0NAAAACXBIWXMAAA7EAAAOxAGVKw4bAAAASUlEQVQ4je3UMREAMAhDUchFWJ1VFAaqLNdj7Axb+QLekCGMiCVpWUMADhNz990BSjJacxywHOvE24D12GA8DfjFhgBOPm1HaV1pzxHmorsTjQAAAABJRU5ErkJggg==",
     "contentType": "image/png",
     "groupId": "0",
     "height": 20,
     "width": 20,
     "layerId": 8,
     "layerName": "SAG-Bâtiment"
    }
   ],
   "layerId": 8,
   "layerName": "SAG-Bâtiment",
   "serviceItemId": "8adf3233f8b14320935014ce4e521eb7"
  },
  {
   "id": 9,
   "name": "Hydrographie",
   "parentLayerId": 0,
   "defaultVisibility": true,
   "subLayerIds": null,
   "minScale": 0,
   "maxScale": 0,
   "type": "Feature Layer",
   "geometryType": "esriGeometryPolygon",
   "supportsDynamicLegends": true,
   "legend": [
    {
     "label": "",
     "imageData": "iVBORw0KGgoAAAANSUhEUgAAABQAAAAUCAYAAACNiR0NAAAACXBIWXMAAA7EAAAOxAGVKw4bAAAAXUlEQVQ4jWMp3vT/PwMVAQuIUBP5xSDM+Ycig95+Z2G49YYNYiDIMGGuv1RwHxvEQGoCllEDKQYslBuBCkYNpBywUMEMFDBqIOUAHIagwpFSADMDTIJKWlDhSA0AALVfEU4FLukwAAAAAElFTkSuQmCC",
     "contentType": "image/png",
     "groupId": "0",
     "height": 20,
     "width": 20,
     "layerId": 9,
     "layerName": "Hydrographie"
    }
   ],
   "layerId": 9,
   "layerName": "Hydrographie",
   "serviceItemId": "8adf3233f8b14320935014ce4e521eb7"
  }
 ],
 "initialExtent": {
  "xmin": -7979135.66579533,
  "ymin": 6103471.711827068,
  "xmax": -7844290.068777002,
  "ymax": 6214227.682080535,
  "spatialReference": {
   "wkid": 102100,
   "latestWkid": 3857,
   "xyTolerance": 0.001,
   "zTolerance": 0.001,
   "mTolerance": 0.001,
   "falseX": -20037700,
   "falseY": -30241100,
   "xyUnits": 10000,
   "falseZ": -100000,
   "zUnits": 10000,
   "falseM": -100000,
   "mUnits": 10000
  }
 },
 "fullExtent": {
  "xmin": -7979135.66579533,
  "ymin": 6103471.711827068,
  "xmax": -7844290.068777002,
  "ymax": 6214227.682080535,
  "spatialReference": {
   "wkid": 102100,
   "latestWkid": 3857,
   "xyTolerance": 0.001,
   "zTolerance": 0.001,
   "mTolerance": 0.001,
   "falseX": -20037700,
   "falseY": -30241100,
   "xyUnits": 10000,
   "falseZ": -100000,
   "zUnits": 10000,
   "falseM": -100000,
   "mUnits": 10000
  }
 },
 "minScale": 0,
 "maxScale": 0,
 "exportTilesAllowed": false,
 "maxExportTilesCount": 0,
 "currentVersion": 11.3,
 "mapName": "Fond_de_carte_Urgence_2025_Ete",
 "singleFusedMapCache": true,
 "type": "MapServer",
 "supportedExtensions": "",
 "capabilities": "TilesOnly,Tilemap",
 "serviceItemId": "8adf3233f8b14320935014ce4e521eb7"
}
